BEGIN:VCALENDAR
VERSION:2.0
PRODID:-//Library Market//iCal Export//EN
BEGIN:VEVENT
SUMMARY:Spring First Nations Film and Video Festival
UID:35000
DTSTAMP:20260422T023900Z
DTSTART:20260526T230000Z
DTEND:20260527T013000Z
LOCATION:5215 Oakton Street, Skokie, IL 60077, United States
ROOM: Petty Auditorium
DESCRIPTION:This festival highlights Indigenous/Native American filmmakers
  of all skill levels, providing them a venue for their works and voice.All
  films are directed by Indigenous/Native American filmmakers from the Unit
 ed States, Canada, Central and South America, and Mexico.Find out more abo
 ut the festival and the films scheduled at venues around Chicago May 22-31
 .The following short films will be shown today:Florencio Quispe (32:56)The
  School: The Legacy of Hintil Ku&#039;u Cǎ (34:03)This is a Sign (6:10)TO
 TEM (21:00)Tiny Love (19:59)
URL:https://www.skokielibrary.info/event/spring-first-nations-film-and-vid
 eo-festival-35000
END:VEVENT
END:VCALENDAR
